BEGIN:VCALENDAR
VERSION:2.0
PRODID:-//DP Pro Event Calendar//3.2.7//EN
BEGIN:VEVENT
UID:d32fec6b-a878-4744-bcdc-6e4e5c532236
DTSTART;TZID=Europe/Rome:20220131T203000
DTEND;TZID=Europe/Rome:20220131T220000
DTSTAMP:20241027T024000Z
SUMMARY:Corso Educ. Ado
DESCRIPTION:
LOCATION:
URL:
END:VEVENT
END:VCALENDAR