BEGIN:VCALENDAR
VERSION:2.0
PRODID:-//DP Pro Event Calendar//3.2.7//EN
BEGIN:VEVENT
UID:7a0a9d30-3f84-463a-812e-cf726bb61268
DTSTART;TZID=Europe/Rome:20220207T203000
DTEND;TZID=Europe/Rome:20220207T220000
DTSTAMP:20241027T024001Z
SUMMARY:Catechisti Online # 2
DESCRIPTION:Inizio corso
LOCATION:
URL:
END:VEVENT
END:VCALENDAR