BEGIN:VCALENDAR
VERSION:2.0
PRODID:-//DP Pro Event Calendar//3.2.7//EN
BEGIN:VEVENT
UID:f6c23980-d77e-4785-bdf1-0cd7055ad270
DTSTART;TZID=Europe/Rome:20220207T203000
DTEND;TZID=Europe/Rome:20220207T220000
DTSTAMP:20241027T024000Z
SUMMARY:Corso Educ. Ado
DESCRIPTION:
LOCATION:
URL:
END:VEVENT
END:VCALENDAR