BEGIN:VCALENDAR
VERSION:2.0
PRODID:-//DP Pro Event Calendar//3.2.7//EN
BEGIN:VEVENT
UID:2fe067d8-7045-4ec8-855c-e0fd6c365e9f
DTSTART;TZID=Europe/Rome:20220213T170000
DTEND;TZID=Europe/Rome:20220213T180000
DTSTAMP:20241027T024003Z
SUMMARY:Benedizione dei fidanzati
DESCRIPTION:Scopri di più...
LOCATION:Cattedrale di Brescia
URL:
END:VEVENT
END:VCALENDAR