BEGIN:VCALENDAR
VERSION:2.0
PRODID:-//DP Pro Event Calendar//3.2.7//EN
BEGIN:VEVENT
UID:cfe44e53-0164-4ae9-b6eb-72e70d2779e0
DTSTART;TZID=Europe/Rome:20220214T203000
DTEND;TZID=Europe/Rome:20220214T220000
DTSTAMP:20241027T024001Z
SUMMARY:Catechisti Online # 2
DESCRIPTION:Inizio corso
LOCATION:
URL:
END:VEVENT
END:VCALENDAR