BEGIN:VCALENDAR
VERSION:2.0
PRODID:-//DP Pro Event Calendar//3.2.7//EN
BEGIN:VEVENT
UID:dc00160c-9d5e-4be7-a21d-be269c31a434
DTSTART;TZID=Europe/Rome:20220221T203000
DTEND;TZID=Europe/Rome:20220221T220000
DTSTAMP:20241027T024001Z
SUMMARY:Catechisti Online # 2
DESCRIPTION:Inizio corso
LOCATION:
URL:
END:VEVENT
END:VCALENDAR