BEGIN:VCALENDAR
VERSION:2.0
PRODID:-//DP Pro Event Calendar//3.2.7//EN
BEGIN:VEVENT
UID:75eaf759-6352-4603-89ac-cafe292ddeee
DTSTART;TZID=Europe/Rome:20220225T173000
DTEND;TZID=Europe/Rome:20220225T190000
DTSTAMP:20241027T023927Z
SUMMARY:Pensare il cristianesimo - Modulo 3
DESCRIPTION:Creato e Cristianesimo
LOCATION:Università Cattolica del Sacro Cuore - via Trieste\, Brescia
URL:
END:VEVENT
END:VCALENDAR