BEGIN:VCALENDAR
VERSION:2.0
PRODID:-//DP Pro Event Calendar//3.2.7//EN
BEGIN:VEVENT
UID:a18ed664-7911-46d2-9e39-149326879792
DTSTART;TZID=Europe/Rome;VALUE=DATE:20220304
DTEND;TZID=Europe/Rome;VALUE=DATE:20220305
DTSTAMP:20241027T024002Z
SUMMARY:Sai Fischiare?
DESCRIPTION:
LOCATION:
URL:
END:VEVENT
END:VCALENDAR