BEGIN:VCALENDAR
VERSION:2.0
PRODID:-//DP Pro Event Calendar//3.2.7//EN
BEGIN:VEVENT
UID:2687c3ca-b523-4ca3-8669-ea90295f5642
DTSTART;TZID=Europe/Rome;VALUE=DATE:20220305
DTEND;TZID=Europe/Rome;VALUE=DATE:20220306
DTSTAMP:20241027T024002Z
SUMMARY:Sai Fischiare?
DESCRIPTION:
LOCATION:
URL:
END:VEVENT
END:VCALENDAR