BEGIN:VCALENDAR
VERSION:2.0
PRODID:-//DP Pro Event Calendar//3.2.7//EN
BEGIN:VEVENT
UID:ca3e3f9e-f3c2-4145-b479-c38153cc87b5
DTSTART;TZID=Europe/Rome;VALUE=DATE:20220306
DTEND;TZID=Europe/Rome;VALUE=DATE:20220307
DTSTAMP:20241027T024002Z
SUMMARY:Sai Fischiare?
DESCRIPTION:
LOCATION:
URL:
END:VEVENT
END:VCALENDAR