BEGIN:VCALENDAR
VERSION:2.0
PRODID:-//DP Pro Event Calendar//3.2.7//EN
BEGIN:VEVENT
UID:03a40bdc-7b2c-4e0e-9cfa-5d6b9fbd545c
DTSTART;TZID=Europe/Rome:20220306T183000
DTEND;TZID=Europe/Rome:20220306T193000
DTSTAMP:20241027T024001Z
SUMMARY:S. Messa con elezione dei Catecumeni adulti
DESCRIPTION:
LOCATION:Cattedrale di Brescia
URL:
END:VEVENT
END:VCALENDAR