BEGIN:VCALENDAR
VERSION:2.0
PRODID:-//DP Pro Event Calendar//3.2.7//EN
BEGIN:VEVENT
UID:f9289785-85e9-4637-870c-c4f9781abc94
DTSTART;TZID=Europe/Rome:20220307T203000
DTEND;TZID=Europe/Rome:20220307T220000
DTSTAMP:20241027T024001Z
SUMMARY:Catechisti Online # 2
DESCRIPTION:Inizio corso
LOCATION:
URL:
END:VEVENT
END:VCALENDAR