BEGIN:VCALENDAR
VERSION:2.0
PRODID:-//DP Pro Event Calendar//3.2.7//EN
BEGIN:VEVENT
UID:7aa0cc60-c564-4c31-b070-85f8f33b24d4
DTSTART;TZID=Europe/Rome:20220311T173000
DTEND;TZID=Europe/Rome:20220311T190000
DTSTAMP:20241027T023927Z
SUMMARY:Pensare il cristianesimo - Modulo 3
DESCRIPTION:Creato e Cristianesimo
LOCATION:Università Cattolica del Sacro Cuore - via Trieste\, Brescia
URL:
END:VEVENT
END:VCALENDAR