BEGIN:VCALENDAR
VERSION:2.0
PRODID:-//DP Pro Event Calendar//3.2.7//EN
BEGIN:VEVENT
UID:97e1d9ad-9fdc-4ff2-8832-69e90b7e20df
DTSTART;TZID=Europe/Rome:20220317T203000
DTEND;TZID=Europe/Rome:20220317T213000
DTSTAMP:20241027T024000Z
SUMMARY:Giovani di Preghiera
DESCRIPTION:
LOCATION:
URL:
END:VEVENT
END:VCALENDAR