BEGIN:VCALENDAR
VERSION:2.0
PRODID:-//DP Pro Event Calendar//3.2.7//EN
BEGIN:VEVENT
UID:4096426f-45e8-4d6e-ac25-006c92c40bd2
DTSTART;TZID=Europe/Rome:20220318T173000
DTEND;TZID=Europe/Rome:20220318T190000
DTSTAMP:20241027T023927Z
SUMMARY:Pensare il cristianesimo - Modulo 3
DESCRIPTION:Creato e Cristianesimo
LOCATION:Università Cattolica del Sacro Cuore - via Trieste\, Brescia
URL:
END:VEVENT
END:VCALENDAR