BEGIN:VCALENDAR
VERSION:2.0
PRODID:-//DP Pro Event Calendar//3.2.7//EN
BEGIN:VEVENT
UID:b8267446-4e5d-4c21-a2e8-bcf60754d1bb
DTSTART;TZID=Europe/Rome:20220325T173000
DTEND;TZID=Europe/Rome:20220325T190000
DTSTAMP:20241027T023927Z
SUMMARY:Pensare il cristianesimo - Modulo 3
DESCRIPTION:Creato e Cristianesimo
LOCATION:Università Cattolica del Sacro Cuore - via Trieste\, Brescia
URL:
END:VEVENT
END:VCALENDAR