BEGIN:VCALENDAR
VERSION:2.0
PRODID:-//DP Pro Event Calendar//3.2.7//EN
BEGIN:VEVENT
UID:6bd1fe23-c5be-4e6a-a29d-4c2937e3265f
DTSTART;TZID=Europe/Rome:20220331T203000
DTEND;TZID=Europe/Rome:20220331T213000
DTSTAMP:20241027T024000Z
SUMMARY:Giovani di Preghiera
DESCRIPTION:
LOCATION:
URL:
END:VEVENT
END:VCALENDAR