BEGIN:VCALENDAR
VERSION:2.0
PRODID:-//DP Pro Event Calendar//3.2.7//EN
BEGIN:VEVENT
UID:2b99b2a3-0e50-415f-b2ad-0629846b5e5c
DTSTART;TZID=Europe/Rome:20220401T173000
DTEND;TZID=Europe/Rome:20220401T190000
DTSTAMP:20241027T023927Z
SUMMARY:Pensare il cristianesimo - Modulo 3
DESCRIPTION:Creato e Cristianesimo
LOCATION:Università Cattolica del Sacro Cuore - via Trieste\, Brescia
URL:
END:VEVENT
END:VCALENDAR