BEGIN:VCALENDAR
VERSION:2.0
PRODID:-//DP Pro Event Calendar//3.2.7//EN
BEGIN:VEVENT
UID:7b0a29a0-c4c4-493b-b958-7bf69b2c4fc2
DTSTART;TZID=Europe/Rome:20220401T173000
DTEND;TZID=Europe/Rome:20220401T190000
DTSTAMP:20241027T023928Z
SUMMARY:Pensare il cristianesimo - Modulo 4
DESCRIPTION:Arte e Cristianesimo
LOCATION:Università Cattolica del Sacro Cuore - via Trieste\, Brescia
URL:
END:VEVENT
END:VCALENDAR