BEGIN:VCALENDAR
VERSION:2.0
PRODID:-//DP Pro Event Calendar//3.2.7//EN
BEGIN:VEVENT
UID:3db00227-081e-4f96-a388-fac3884e7f73
DTSTART;TZID=Europe/Rome:20220408T173000
DTEND;TZID=Europe/Rome:20220408T190000
DTSTAMP:20241027T023928Z
SUMMARY:Pensare il cristianesimo - Modulo 4
DESCRIPTION:Arte e Cristianesimo
LOCATION:Università Cattolica del Sacro Cuore - via Trieste\, Brescia
URL:
END:VEVENT
END:VCALENDAR