BEGIN:VCALENDAR
VERSION:2.0
PRODID:-//DP Pro Event Calendar//3.2.7//EN
BEGIN:VEVENT
UID:97a3bd97-cd0e-4ca5-b287-239472407454
DTSTART;TZID=Europe/Rome:20220415T173000
DTEND;TZID=Europe/Rome:20220415T190000
DTSTAMP:20241027T023928Z
SUMMARY:Pensare il cristianesimo - Modulo 4
DESCRIPTION:Arte e Cristianesimo
LOCATION:Università Cattolica del Sacro Cuore - via Trieste\, Brescia
URL:
END:VEVENT
END:VCALENDAR