BEGIN:VCALENDAR
VERSION:2.0
PRODID:-//DP Pro Event Calendar//3.2.7//EN
BEGIN:VEVENT
UID:ff370043-15fd-452a-9b9f-be517b4dc605
DTSTART;TZID=Europe/Rome:20220422T173000
DTEND;TZID=Europe/Rome:20220422T190000
DTSTAMP:20241027T023928Z
SUMMARY:Pensare il cristianesimo - Modulo 4
DESCRIPTION:Arte e Cristianesimo
LOCATION:Università Cattolica del Sacro Cuore - via Trieste\, Brescia
URL:
END:VEVENT
END:VCALENDAR