BEGIN:VCALENDAR
VERSION:2.0
PRODID:-//DP Pro Event Calendar//3.2.7//EN
BEGIN:VEVENT
UID:1716fef1-50c0-4333-bd78-b357fd8f2764
DTSTART;TZID=Europe/Rome;VALUE=DATE:20220423
DTEND;TZID=Europe/Rome;VALUE=DATE:20220424
DTSTAMP:20241027T024002Z
SUMMARY:Esercizi Spirituali per Giovani
DESCRIPTION:Scopri di più...
LOCATION:Eremo di Bienno
URL:
END:VEVENT
END:VCALENDAR