BEGIN:VCALENDAR
VERSION:2.0
PRODID:-//DP Pro Event Calendar//3.2.7//EN
BEGIN:VEVENT
UID:8bcb0e2c-9b93-4ba8-8866-5d45ac392d67
DTSTART;TZID=Europe/Rome;VALUE=DATE:20220424
DTEND;TZID=Europe/Rome;VALUE=DATE:20220425
DTSTAMP:20241027T024002Z
SUMMARY:Esercizi Spirituali per Giovani
DESCRIPTION:Scopri di più...
LOCATION:Eremo di Bienno
URL:
END:VEVENT
END:VCALENDAR