BEGIN:VCALENDAR
VERSION:2.0
PRODID:-//DP Pro Event Calendar//3.2.7//EN
BEGIN:VEVENT
UID:dccff7b9-7f65-4124-a43e-c514c25b468b
DTSTART;TZID=Europe/Rome:20220424T180000
DTEND;TZID=Europe/Rome:20220424T193000
DTSTAMP:20241027T023931Z
SUMMARY:Cresime degli adulti
DESCRIPTION:
LOCATION:Parrocchia S. Francesco da Paola\, Brescia
URL:
END:VEVENT
END:VCALENDAR