BEGIN:VCALENDAR
VERSION:2.0
PRODID:-//DP Pro Event Calendar//3.2.7//EN
BEGIN:VEVENT
UID:39f9be6e-c8b4-4097-8f95-e89cddad0478
DTSTART;TZID=Europe/Rome;VALUE=DATE:20220507
DTEND;TZID=Europe/Rome;VALUE=DATE:20220508
DTSTAMP:20241027T023928Z
SUMMARY:Viaggio culturale e spirituale a Trento
DESCRIPTION:con Comunità e Scuola
LOCATION:
URL:
END:VEVENT
END:VCALENDAR