BEGIN:VCALENDAR
VERSION:2.0
PRODID:-//DP Pro Event Calendar//3.2.7//EN
BEGIN:VEVENT
UID:c0fb0a27-d75b-4ee0-a9aa-73b0d1639c25
DTSTART;TZID=Europe/Rome;VALUE=DATE:20220508
DTEND;TZID=Europe/Rome;VALUE=DATE:20220509
DTSTAMP:20241027T023928Z
SUMMARY:Viaggio culturale e spirituale a Trento
DESCRIPTION:con Comunità e Scuola
LOCATION:
URL:
END:VEVENT
END:VCALENDAR