BEGIN:VCALENDAR
VERSION:2.0
PRODID:-//DP Pro Event Calendar//3.2.7//EN
BEGIN:VEVENT
UID:2cc0cb50-5ceb-436e-b816-6cd1c4d728d6
DTSTART;TZID=Europe/Rome:20220605T100000
DTEND;TZID=Europe/Rome:20220605T113000
DTSTAMP:20241027T024001Z
SUMMARY:Cresime Adulti
DESCRIPTION:
LOCATION:Cattedrale di Brescia
URL:
END:VEVENT
END:VCALENDAR