BEGIN:VCALENDAR
VERSION:2.0
PRODID:-//DP Pro Event Calendar//3.2.7//EN
BEGIN:VEVENT
UID:87eccbeb-899b-4f41-9d27-e43daeafcf44
DTSTART;TZID=Europe/Rome;VALUE=DATE:20220624
DTEND;TZID=Europe/Rome;VALUE=DATE:20220625
DTSTAMP:20241027T023929Z
SUMMARY:Summer school 1
DESCRIPTION:su cultura\, territorio e cristianesimo
LOCATION:Eremo di Bienno
URL:
END:VEVENT
END:VCALENDAR