BEGIN:VCALENDAR
VERSION:2.0
PRODID:-//DP Pro Event Calendar//3.2.7//EN
BEGIN:VEVENT
UID:b9cdb5f9-f446-4cd9-809b-2f20c7c178d2
DTSTART;TZID=Europe/Rome;VALUE=DATE:20220625
DTEND;TZID=Europe/Rome;VALUE=DATE:20220626
DTSTAMP:20241027T023929Z
SUMMARY:Summer school 1
DESCRIPTION:su cultura\, territorio e cristianesimo
LOCATION:Eremo di Bienno
URL:
END:VEVENT
END:VCALENDAR