BEGIN:VCALENDAR
VERSION:2.0
PRODID:-//DP Pro Event Calendar//3.2.7//EN
BEGIN:VEVENT
UID:48376307-b5ee-46b5-bf5c-333755951c2b
DTSTART;TZID=Europe/Rome;VALUE=DATE:20220701
DTEND;TZID=Europe/Rome;VALUE=DATE:20220702
DTSTAMP:20241027T023929Z
SUMMARY:Summer school 2
DESCRIPTION:su cultura\, territorio e cristianesimo
LOCATION:
URL:
END:VEVENT
END:VCALENDAR