BEGIN:VCALENDAR
VERSION:2.0
PRODID:-//DP Pro Event Calendar//3.2.7//EN
BEGIN:VEVENT
UID:93554bcf-b21b-414d-bca9-3aa01ff15f66
DTSTART;TZID=Europe/Rome;VALUE=DATE:20220702
DTEND;TZID=Europe/Rome;VALUE=DATE:20220703
DTSTAMP:20241027T023929Z
SUMMARY:Summer school 2
DESCRIPTION:su cultura\, territorio e cristianesimo
LOCATION:
URL:
END:VEVENT
END:VCALENDAR