BEGIN:VCALENDAR
VERSION:2.0
PRODID:-//DP Pro Event Calendar//3.2.7//EN
BEGIN:VEVENT
UID:4d555184-0889-490c-bb45-1fe329ec0d81
DTSTART;TZID=Europe/Rome:20220928T203000
DTEND;TZID=Europe/Rome:20220928T223000
DTSTAMP:20260422T044914Z
SUMMARY:Assemblea Catechisti #4
DESCRIPTION:Scopri di più...
LOCATION:Parrocchia di Ghedi
URL:
END:VEVENT
END:VCALENDAR