BEGIN:VCALENDAR
VERSION:2.0
PRODID:-//DP Pro Event Calendar//3.2.7//EN
BEGIN:VEVENT
UID:7b617a83-6b3b-46c5-9e9b-48176f2a9061
DTSTART;TZID=Europe/Rome:20221120T190000
DTEND;TZID=Europe/Rome:20221120T213000
DTSTAMP:20260421T224203Z
SUMMARY:GMG Diocesana
DESCRIPTION:Scopri di più...
LOCATION:Abbazia di Rodengo
URL:
END:VEVENT
END:VCALENDAR