BEGIN:VCALENDAR
VERSION:2.0
PRODID:-//DP Pro Event Calendar//3.2.7//EN
BEGIN:VEVENT
UID:b7f3a30e-afb7-4c31-941f-a569ff745e33
DTSTART;TZID=Europe/Rome;VALUE=DATE:20230224
DTEND;TZID=Europe/Rome;VALUE=DATE:20230225
DTSTAMP:20241027T024004Z
SUMMARY:Esercizi Spirituali per Catechisti
DESCRIPTION:Scopri di più...
LOCATION:Eremo di Montecastello
URL:
END:VEVENT
END:VCALENDAR