BEGIN:VCALENDAR
VERSION:2.0
PRODID:-//DP Pro Event Calendar//3.2.7//EN
BEGIN:VEVENT
UID:003e6e69-4850-49a2-93e7-5a1a48b9b679
DTSTART;TZID=Europe/Rome;VALUE=DATE:20230225
DTEND;TZID=Europe/Rome;VALUE=DATE:20230226
DTSTAMP:20241027T024004Z
SUMMARY:Esercizi Spirituali per Catechisti
DESCRIPTION:Scopri di più...
LOCATION:Eremo di Montecastello
URL:
END:VEVENT
END:VCALENDAR