BEGIN:VCALENDAR
VERSION:2.0
PRODID:-//DP Pro Event Calendar//3.2.7//EN
BEGIN:VEVENT
UID:3721684c-8944-4783-860d-0b14286ad1ce
DTSTART;TZID=Europe/Rome;VALUE=DATE:20230226
DTEND;TZID=Europe/Rome;VALUE=DATE:20230227
DTSTAMP:20260424T114330Z
SUMMARY:S. Messa con rito di Elezione dei Catecumeni adulti
DESCRIPTION:
LOCATION:
URL:
END:VEVENT
END:VCALENDAR