BEGIN:VCALENDAR
VERSION:2.0
PRODID:-//DP Pro Event Calendar//3.2.7//EN
BEGIN:VEVENT
UID:b24ebcfd-bc7d-4a72-a40a-d22dc11ffe87
DTSTART;TZID=Europe/Rome;VALUE=DATE:20230226
DTEND;TZID=Europe/Rome;VALUE=DATE:20230227
DTSTAMP:20241027T024004Z
SUMMARY:Esercizi Spirituali per Catechisti
DESCRIPTION:Scopri di più...
LOCATION:Eremo di Montecastello
URL:
END:VEVENT
END:VCALENDAR