BEGIN:VCALENDAR
VERSION:2.0
PRODID:-//DP Pro Event Calendar//3.2.7//EN
BEGIN:VEVENT
UID:edb1d2af-01c7-4f07-9a98-bb3d57d060da
DTSTART;TZID=Europe/Rome:20230303T173000
DTEND;TZID=Europe/Rome:20230303T190000
DTSTAMP:20260420T114339Z
SUMMARY:Alta Formazione “Pensare il cristianesimo” - Inizio Modulo B
DESCRIPTION:
LOCATION:Campus Università Cattolica del Sacro Cuore\, Brescia (via Garzetta)
URL:
END:VEVENT
END:VCALENDAR