BEGIN:VCALENDAR
VERSION:2.0
PRODID:-//DP Pro Event Calendar//3.2.7//EN
BEGIN:VEVENT
UID:75d6e97d-f887-4869-aacd-de61246e52c0
DTSTART;TZID=Europe/Rome;VALUE=DATE:20230325
DTEND;TZID=Europe/Rome;VALUE=DATE:20230326
DTSTAMP:20260421T224200Z
SUMMARY:Maturi al punto giusto
DESCRIPTION:
LOCATION:
URL:
END:VEVENT
END:VCALENDAR