BEGIN:VCALENDAR
VERSION:2.0
PRODID:-//DP Pro Event Calendar//3.2.7//EN
BEGIN:VEVENT
UID:679db4d4-7b92-484f-b369-1bf5c93afd9c
DTSTART;TZID=Europe/Rome:20230401T200000
DTEND;TZID=Europe/Rome:20230401T230000
DTSTAMP:20241027T024004Z
SUMMARY:Veglia delle Palme
DESCRIPTION:Scopri di più...
LOCATION:
URL:
END:VEVENT
END:VCALENDAR