BEGIN:VCALENDAR
VERSION:2.0
PRODID:-//DP Pro Event Calendar//3.2.7//EN
BEGIN:VEVENT
UID:a70a2ebf-56a2-4741-86fc-4906ade1aa2e
DTSTART;TZID=Europe/Rome:20240222T203000
DTEND;TZID=Europe/Rome:20240222T220000
DTSTAMP:20241027T024010Z
SUMMARY:Giovani di Preghiera
DESCRIPTION:Scopri di più...
LOCATION:
URL:
END:VEVENT
END:VCALENDAR