BEGIN:VCALENDAR
VERSION:2.0
PRODID:-//DP Pro Event Calendar//3.2.7//EN
BEGIN:VEVENT
UID:6d2446a9-9b96-45b9-910a-f73e93cf2d23
DTSTART;TZID=Europe/Rome:20240229T203000
DTEND;TZID=Europe/Rome:20240229T220000
DTSTAMP:20241027T024010Z
SUMMARY:Giovani di Preghiera
DESCRIPTION:Scopri di più...
LOCATION:
URL:
END:VEVENT
END:VCALENDAR