BEGIN:VCALENDAR
VERSION:2.0
PRODID:-//DP Pro Event Calendar//3.2.7//EN
BEGIN:VEVENT
UID:4690f92b-bc2b-4a33-8390-3800c7a0b6ed
DTSTART;TZID=Europe/Rome;VALUE=DATE:20240301
DTEND;TZID=Europe/Rome;VALUE=DATE:20240302
DTSTAMP:20241027T024010Z
SUMMARY:Sai Fischiare?
DESCRIPTION:Scopri di più...
LOCATION:
URL:
END:VEVENT
END:VCALENDAR