BEGIN:VCALENDAR
VERSION:2.0
PRODID:-//DP Pro Event Calendar//3.2.7//EN
BEGIN:VEVENT
UID:194614e4-c25e-4439-bbf9-2d09c72cf503
DTSTART;TZID=Europe/Rome;VALUE=DATE:20240302
DTEND;TZID=Europe/Rome;VALUE=DATE:20240303
DTSTAMP:20241027T024010Z
SUMMARY:Sai Fischiare?
DESCRIPTION:Scopri di più...
LOCATION:
URL:
END:VEVENT
END:VCALENDAR