BEGIN:VCALENDAR
VERSION:2.0
PRODID:-//DP Pro Event Calendar//3.2.7//EN
BEGIN:VEVENT
UID:048bef77-a9f0-46b8-861f-9619fb37ba7a
DTSTART;TZID=Europe/Rome;VALUE=DATE:20240303
DTEND;TZID=Europe/Rome;VALUE=DATE:20240304
DTSTAMP:20241027T024010Z
SUMMARY:Sai Fischiare?
DESCRIPTION:Scopri di più...
LOCATION:
URL:
END:VEVENT
END:VCALENDAR