BEGIN:VCALENDAR
VERSION:2.0
PRODID:-//DP Pro Event Calendar//3.2.7//EN
BEGIN:VEVENT
UID:d2cef37b-f894-439c-ab8b-91d6ae82d5d8
DTSTART;TZID=Europe/Rome:20240307T203000
DTEND;TZID=Europe/Rome:20240307T220000
DTSTAMP:20241027T024010Z
SUMMARY:Giovani di Preghiera
DESCRIPTION:Scopri di più...
LOCATION:Santuario Madonna della Stella di Cellatica
URL:
END:VEVENT
END:VCALENDAR