BEGIN:VCALENDAR
VERSION:2.0
PRODID:-//DP Pro Event Calendar//3.2.7//EN
BEGIN:VEVENT
UID:15fc17a9-5f13-4935-80be-e9768b97dede
DTSTART;TZID=Europe/Rome;VALUE=DATE:20240308
DTEND;TZID=Europe/Rome;VALUE=DATE:20240309
DTSTAMP:20241027T024010Z
SUMMARY:Esercizi Spirituali per Giovani
DESCRIPTION:Scopri di più...
LOCATION:Eremo di Bienno
URL:
END:VEVENT
END:VCALENDAR