BEGIN:VCALENDAR
VERSION:2.0
PRODID:-//DP Pro Event Calendar//3.2.7//EN
BEGIN:VEVENT
UID:90e18375-4aba-48d4-965f-c045264609fe
DTSTART;TZID=Europe/Rome;VALUE=DATE:20240309
DTEND;TZID=Europe/Rome;VALUE=DATE:20240310
DTSTAMP:20241027T024010Z
SUMMARY:Esercizi Spirituali per Giovani
DESCRIPTION:Scopri di più...
LOCATION:Eremo di Bienno
URL:
END:VEVENT
END:VCALENDAR