BEGIN:VCALENDAR
VERSION:2.0
PRODID:-//DP Pro Event Calendar//3.2.7//EN
BEGIN:VEVENT
UID:91b59f67-05b7-4356-bc06-52f88fd21d51
DTSTART;TZID=Europe/Rome;VALUE=DATE:20240310
DTEND;TZID=Europe/Rome;VALUE=DATE:20240311
DTSTAMP:20241027T024010Z
SUMMARY:Esercizi Spirituali per Giovani
DESCRIPTION:Scopri di più...
LOCATION:Eremo di Bienno
URL:
END:VEVENT
END:VCALENDAR